BEGIN:VCALENDAR
VERSION:2.0
PRODID:-//WP EVENT Manager Ical//NONSGML Events //EN
CALSCALE:GREGORIAN

BEGIN:VEVENT

DTSTART:20260313T210000PMZ
DTEND:20260315T030000AMZ
LOCATION:Online
SUMMARY:Weekend Country
DESCRIPTION:Sortez vos bottes et vos chapeauxpour une fin de semaine deMusique Country avec Yan et AnnieMenu spécial CountryTraditionnel Chili Texan au BoeufCôte-Levée de boeuf Wagyu QuébecTarte aux Pacanes * ATTENTION: les places au 2e étage sont limitées


END:VEVENT
END:VCALENDAR
    