BEGIN:VCALENDAR
VERSION:2.0
PRODID:-//WP EVENT Manager Ical//NONSGML Events //EN
CALSCALE:GREGORIAN

BEGIN:VEVENT

DTSTART:20260612T220000PMZ
DTEND:20260613T030000AMZ
LOCATION:Grillade La Bohème
SUMMARY:Souper-spectacle: Hommage à OFFENBACH avec Les Eaux qui Dorment
DESCRIPTION:&nbsp;ACHETEZ VOS BILLETS


END:VEVENT
END:VCALENDAR
    