BEGIN:VCALENDAR
VERSION:2.0
PRODID:-//WP EVENT Manager Ical//NONSGML Events //EN
CALSCALE:GREGORIAN

BEGIN:VEVENT

DTSTART:20260618T220000PMZ
DTEND:20260619T030000AMZ
LOCATION:Online
SUMMARY:Souper-spectacle en humour: Dano – Boulianne en rodage
DESCRIPTION:&nbsp;Achetez vos Billets


END:VEVENT
END:VCALENDAR
    