BEGIN:VCALENDAR
VERSION:2.0
PRODID:-//WP EVENT Manager Ical//NONSGML Events //EN
CALSCALE:GREGORIAN

BEGIN:VEVENT

DTSTART:19700101T040000AMZ
DTEND:19700101T040000AMZ
LOCATION:Online
SUMMARY:Souper-spectacle: en humour avec Faf
DESCRIPTION:ACHETEZ VOS BILLETS


END:VEVENT
END:VCALENDAR
    