BEGIN:VCALENDAR
VERSION:2.0
PRODID:-//WP EVENT Manager Ical//NONSGML Events //EN
CALSCALE:GREGORIAN

BEGIN:VEVENT

DTSTART:20260529T220000PMZ
DTEND:20260530T030000AMZ
LOCATION:Online
SUMMARY:ouper-spectacle: Hommage à Red Hot Chili Peppers avec Parallel Universe
DESCRIPTION:ACHETEZ VOS BILLETS


END:VEVENT
END:VCALENDAR
    