BEGIN:VCALENDAR
VERSION:2.0
PRODID:-//WP EVENT Manager Ical//NONSGML Events //EN
CALSCALE:GREGORIAN

BEGIN:VEVENT

DTSTART:20260424T220000PMZ
DTEND:20260425T030000AMZ
LOCATION:Grillade La Bohème
SUMMARY:Souper-spectacle, les talents de Charlevoix: Gros Fun Sale
DESCRIPTION:Cliquez ci-dessous pour acheter vos billetshttps://lepointdevente.com/billets/r29260424001Souper 18h00 &#8211; Spectacle 20h30Menu de l’option souper-spectacle&#8212;&#8212;&#8212;&#8212;&#8212;ENTRÉES&#8211; Bruschettas au bœuf effiloché&#8211; Bacon Maison&#8211; Salade du Chef&#8212;&#8212;&#8212;&#8212;&#8212;PLATS PRINCIPAUX&#8211; Burger Wagyu Migneron&#8211; Burger au Bœuf Effiloché&#8211; Fish and Chips à la Bière Noire&#8211; Poutine au Bœuf Effiloché ou Bacon Maison&#8211; Bavette de Bœuf 7oz (supplément de 10$)&#8211; Demie Côte-levée&#8211; Brisket de Bœuf&#8211; Demi poulet de Cornouailles&#8212;&#8212;&#8212;&#8212;&#8212;&#8211; Dessert du moment


END:VEVENT
END:VCALENDAR
    